BEGIN:VCALENDAR
VERSION:2.0
PRODID:-//wp-events-plugin.com//6.6.4.4//EN
BEGIN:VEVENT
UID:911@inscripciones.torrent.es
DTSTART:20260508T153000Z
DTEND:20260626T173000Z
DTSTAMP:20260417T074417Z
URL:https://inscripciones.torrent.es/events/dona-des-conectamos-jugando-ju
 egos-de-mesa-ocio-saludable/
SUMMARY:DONA. Des-conectamos jugando. Juegos de mesa (OCIO SALUDABLE)
DESCRIPTION:INSCRIPCIONES A PARTIR DE LAS 09:45 h. DEL DÍA 27/04/2026\n\nT
 ALLER: JUEGOS DE MESA MODERNOS: DES-CONECTAMOS JUGANDO (SOCIAL)\n\nConteni
 do: El taller pretende\, a través del juego de mesa moderno\, crear un es
 pacio  distendido y de conocimiento  de los nuevos juegos de mesa ante e
 l auge y la creciente popularidad de los juegos de mesa en la actualidad\,
   más allá de los clásicos.\n\nTALLER MIXTO /A PARTIR DE 18 AÑOS \n\
 nHorario: VIERNES de 17:30 a 19:30 horas.\n\nInicio:8 de mayo 2026\n\nFina
 liza: 26 de junio  2026\n\nTasas: 16 € (8 sesiones)\n\nImparte: María 
 José Guerrero Reina\n\nEl taller debe abonarse en un plazo máximo de 15 
 días desde la fecha de inicio del mismo.
CATEGORIES:Igualtat
END:VEVENT
END:VCALENDAR